Workbook
Name EQ_X: Calc!$AH$11:INDEX(Calc!$AH$11:$AH$1011,Calc!$AZ$11+1)
Name EQ_Y: Calc!$AI$11:INDEX(Calc!$AI$11:$AI$1011,Calc!$AZ$11+1)
Name INST_X: Calc!$AR$11:INDEX(Calc!$AR$11:$AR$160,MAX(1,Calc!$AZ$36))
Name INST_Y: Calc!$AS$11:INDEX(Calc!$AS$11:$AS$160,MAX(1,Calc!$AZ$36))
Name INSTR_LIST: Markets!$A$5:INDEX(Markets!$A$5:$A$154,IFERROR(MATCH(REPT("z",50),Markets!$A$5:$A$154),1))
Name LOT_X: Calc!$AJ$11:INDEX(Calc!$AJ$11:$AJ$1010,MAX(1,Calc!$AZ$11))
Name LOT_Y: Calc!$AK$11:INDEX(Calc!$AK$11:$AK$1010,MAX(1,Calc!$AZ$11))
Name RISK_LOTS: Settings!$K$5:$K$15
Name RISK_PCT: Settings!$I$5:$I$15
Name SESS_X: Calc!$AU$11:INDEX(Calc!$AU$11:$AU$16,MAX(1,Calc!$AZ$37))
Name SESS_Y: Calc!$AW$11:INDEX(Calc!$AW$11:$AW$16,MAX(1,Calc!$AZ$37))

Sheet Journal
A1: Automated Trade Log (Free Basic)
A3: Starting balance | D3: 10000 | F3: (Basic: lots and direction are typed)
A4: Default commission per lot | D4: 3
A5: Closed positions P/L (net) | D5: =Calc!$AZ$27 -> 0 | F5: Account currency | H5: USD
A6: Account balance | D6: =Calc!$AZ$38 -> 0 | F6: Open trades | H6: =Calc!$AZ$30 -> 0
A7: Account % change | D7: =IF(D3=0,"",Calc!$AZ$27/D3) -> 0 | F7: Rows needing attention | H7: =Calc!$AZ$31 -> 0
A8: Time zone (UTC offset, hours) | D8: 2 | E8: ="UTC"&IF(D8>=0,"+","")&D8 -> 0
A10: Date | B10: Time | C10: Instrument | D10: Direction | E10: Entry price | F10: Stop loss | G10: Take profit 1 | H10: Take profit 2 | I10: Take profit 3 | J10: Manual exit | K10: Outcome | L10: Lot size | M10: TP1 close % | N10: Averaged exit | O10: Session | P10: Gross P/L | Q10: Commission | R10: Net P/L | S10: Account change | T10: Check | U10: Notes
N11: =Calc!N11 -> 0 | O11: =Calc!Z11 -> 0 | P11: =Calc!S11 -> 0 | Q11: =Calc!T11 -> 0 | R11: =Calc!V11 -> 0 | S11: =Calc!W11 -> 0 | T11: =Calc!J11 -> 0
N12: =Calc!N12 -> 0 | O12: =Calc!Z12 -> 0 | P12: =Calc!S12 -> 0 | Q12: =Calc!T12 -> 0 | R12: =Calc!V12 -> 0 | S12: =Calc!W12 -> 0 | T12: =Calc!J12 -> 0
N13: =Calc!N13 -> 0 | O13: =Calc!Z13 -> 0 | P13: =Calc!S13 -> 0 | Q13: =Calc!T13 -> 0 | R13: =Calc!V13 -> 0 | S13: =Calc!W13 -> 0 | T13: =Calc!J13 -> 0
N14: =Calc!N14 -> 0 | O14: =Calc!Z14 -> 0 | P14: =Calc!S14 -> 0 | Q14: =Calc!T14 -> 0 | R14: =Calc!V14 -> 0 | S14: =Calc!W14 -> 0 | T14: =Calc!J14 -> 0
N15: =Calc!N15 -> 0 | O15: =Calc!Z15 -> 0 | P15: =Calc!S15 -> 0 | Q15: =Calc!T15 -> 0 | R15: =Calc!V15 -> 0 | S15: =Calc!W15 -> 0 | T15: =Calc!J15 -> 0
N16: =Calc!N16 -> 0 | O16: =Calc!Z16 -> 0 | P16: =Calc!S16 -> 0 | Q16: =Calc!T16 -> 0 | R16: =Calc!V16 -> 0 | S16: =Calc!W16 -> 0 | T16: =Calc!J16 -> 0
N17: =Calc!N17 -> 0 | O17: =Calc!Z17 -> 0 | P17: =Calc!S17 -> 0 | Q17: =Calc!T17 -> 0 | R17: =Calc!V17 -> 0 | S17: =Calc!W17 -> 0 | T17: =Calc!J17 -> 0
N18: =Calc!N18 -> 0 | O18: =Calc!Z18 -> 0 | P18: =Calc!S18 -> 0 | Q18: =Calc!T18 -> 0 | R18: =Calc!V18 -> 0 | S18: =Calc!W18 -> 0 | T18: =Calc!J18 -> 0
N19: =Calc!N19 -> 0 | O19: =Calc!Z19 -> 0 | P19: =Calc!S19 -> 0 | Q19: =Calc!T19 -> 0 | R19: =Calc!V19 -> 0 | S19: =Calc!W19 -> 0 | T19: =Calc!J19 -> 0
N20: =Calc!N20 -> 0 | O20: =Calc!Z20 -> 0 | P20: =Calc!S20 -> 0 | Q20: =Calc!T20 -> 0 | R20: =Calc!V20 -> 0 | S20: =Calc!W20 -> 0 | T20: =Calc!J20 -> 0
N21: =Calc!N21 -> 0 | O21: =Calc!Z21 -> 0 | P21: =Calc!S21 -> 0 | Q21: =Calc!T21 -> 0 | R21: =Calc!V21 -> 0 | S21: =Calc!W21 -> 0 | T21: =Calc!J21 -> 0
N22: =Calc!N22 -> 0 | O22: =Calc!Z22 -> 0 | P22: =Calc!S22 -> 0 | Q22: =Calc!T22 -> 0 | R22: =Calc!V22 -> 0 | S22: =Calc!W22 -> 0 | T22: =Calc!J22 -> 0
... N1010: =Calc!N1010 -> 0 | O1010: =Calc!Z1010 -> 0 | P1010: =Calc!S1010 -> 0 | Q1010: =Calc!T1010 -> 0 | R1010: =Calc!V1010 -> 0 | S1010: =Calc!W1010 -> 0 | T1010: =Calc!J1010 -> 0

Sheet Trade summary
A1: Trade Summary
A3: Dashboard
A5: Total number of trades | B5: =Calc!$AZ$11 -> 0
A6: Winning trades | B6: =Calc!$AZ$12 -> 0
A7: Losing trades | B7: =Calc!$AZ$13 -> 0
A8: Break-even trades | B8: =Calc!$AZ$14 -> 0
A9: Win rate | B9: =Calc!$AZ$15 -> 0
A10: Gross profit (winning trades) | B10: =Calc!$AZ$16 -> 0
A11: Gross loss (losing trades) | B11: =Calc!$AZ$17 -> 0
A12: Average winning trade | B12: =Calc!$AZ$18 -> 0
A13: Average losing trade | B13: =Calc!$AZ$19 -> 0
A14: Largest winning trade | B14: =Calc!$AZ$20 -> 0
A15: Largest losing trade | B15: =Calc!$AZ$21 -> 0
A16: Profit factor | B16: =Calc!$AZ$22 -> 0
A17: Total trade costs | B17: =Calc!$AZ$26 -> 0
A18: Total net P/L | B18: =Calc!$AZ$27 -> 0
A19: Average net P/L per trade | B19: =Calc!$AZ$28 -> 0
A20: Return on investment | B20: =Calc!$AZ$29 -> 0
A21: Open trades | B21: =Calc!$AZ$30 -> 0
A22: Rows needing attention | B22: =Calc!$AZ$31 -> 0
A24: Win/loss stats use gross P/L; totals, ROI, equity and the P/L charts are net of commission.

Sheet Markets
A1: Markets: instruments and contract specs
A2: Add your own instruments in any empty row (the Journal dropdown picks them up). Contract size = units of the instrument in 1.00 lot. Check the specs and commissions against your broker.
L3: Currency table
A4: Symbol | B4: Asset class | C4: Contract size (units per lot) | D4: Pip / point size | E4: Quote currency | F4: Quote -> account rate | G4: Commission per lot (blank = Journal default) | H4: Commission % of notional | I4: Pip value per lot (account ccy) | J4: Notes | L4: ="Currency" -> 0 | M4: ="1 unit in "&Journal!$H$5 -> 0
A5: EURUSD | B5: Forex | C5: 100000 | D5: 0.0001 | E5: USD | F5: =IF(E5="","",IFERROR(VLOOKUP(E5,$L$5:$M$24,2,FALSE),"")) -> 0 | I5: =IF(OR(C5="",D5="",F5=""),"",C5*D5*F5) -> 0 | L5: USD | M5: 1
A6: GBPUSD | B6: Forex | C6: 100000 | D6: 0.0001 | E6: USD | F6: =IF(E6="","",IFERROR(VLOOKUP(E6,$L$5:$M$24,2,FALSE),"")) -> 0 | I6: =IF(OR(C6="",D6="",F6=""),"",C6*D6*F6) -> 0 | L6: EUR | M6: 1.16
A7: AUDUSD | B7: Forex | C7: 100000 | D7: 0.0001 | E7: USD | F7: =IF(E7="","",IFERROR(VLOOKUP(E7,$L$5:$M$24,2,FALSE),"")) -> 0 | I7: =IF(OR(C7="",D7="",F7=""),"",C7*D7*F7) -> 0 | L7: GBP | M7: 1.34
A8: NZDUSD | B8: Forex | C8: 100000 | D8: 0.0001 | E8: USD | F8: =IF(E8="","",IFERROR(VLOOKUP(E8,$L$5:$M$24,2,FALSE),"")) -> 0 | I8: =IF(OR(C8="",D8="",F8=""),"",C8*D8*F8) -> 0 | L8: JPY | M8: 0.0067
A9: USDJPY | B9: Forex | C9: 100000 | D9: 0.01 | E9: JPY | F9: =IF(E9="","",IFERROR(VLOOKUP(E9,$L$5:$M$24,2,FALSE),"")) -> 0 | I9: =IF(OR(C9="",D9="",F9=""),"",C9*D9*F9) -> 0 | L9: CHF | M9: 1.25
A10: USDCHF | B10: Forex | C10: 100000 | D10: 0.0001 | E10: CHF | F10: =IF(E10="","",IFERROR(VLOOKUP(E10,$L$5:$M$24,2,FALSE),"")) -> 0 | I10: =IF(OR(C10="",D10="",F10=""),"",C10*D10*F10) -> 0 | L10: CAD | M10: 0.725
A11: USDCAD | B11: Forex | C11: 100000 | D11: 0.0001 | E11: CAD | F11: =IF(E11="","",IFERROR(VLOOKUP(E11,$L$5:$M$24,2,FALSE),"")) -> 0 | I11: =IF(OR(C11="",D11="",F11=""),"",C11*D11*F11) -> 0 | L11: AUD | M11: 0.65
A12: EURGBP | B12: Forex | C12: 100000 | D12: 0.0001 | E12: GBP | F12: =IF(E12="","",IFERROR(VLOOKUP(E12,$L$5:$M$24,2,FALSE),"")) -> 0 | I12: =IF(OR(C12="",D12="",F12=""),"",C12*D12*F12) -> 0 | L12: NZD | M12: 0.58
A13: EURJPY | B13: Forex | C13: 100000 | D13: 0.01 | E13: JPY | F13: =IF(E13="","",IFERROR(VLOOKUP(E13,$L$5:$M$24,2,FALSE),"")) -> 0 | I13: =IF(OR(C13="",D13="",F13=""),"",C13*D13*F13) -> 0
A14: GBPJPY | B14: Forex | C14: 100000 | D14: 0.01 | E14: JPY | F14: =IF(E14="","",IFERROR(VLOOKUP(E14,$L$5:$M$24,2,FALSE),"")) -> 0 | I14: =IF(OR(C14="",D14="",F14=""),"",C14*D14*F14) -> 0
A15: AUDJPY | B15: Forex | C15: 100000 | D15: 0.01 | E15: JPY | F15: =IF(E15="","",IFERROR(VLOOKUP(E15,$L$5:$M$24,2,FALSE),"")) -> 0 | I15: =IF(OR(C15="",D15="",F15=""),"",C15*D15*F15) -> 0
A16: CADJPY | B16: Forex | C16: 100000 | D16: 0.01 | E16: JPY | F16: =IF(E16="","",IFERROR(VLOOKUP(E16,$L$5:$M$24,2,FALSE),"")) -> 0 | I16: =IF(OR(C16="",D16="",F16=""),"",C16*D16*F16) -> 0
A17: CHFJPY | B17: Forex | C17: 100000 | D17: 0.01 | E17: JPY | F17: =IF(E17="","",IFERROR(VLOOKUP(E17,$L$5:$M$24,2,FALSE),"")) -> 0 | I17: =IF(OR(C17="",D17="",F17=""),"",C17*D17*F17) -> 0
A18: NZDJPY | B18: Forex | C18: 100000 | D18: 0.01 | E18: JPY | F18: =IF(E18="","",IFERROR(VLOOKUP(E18,$L$5:$M$24,2,FALSE),"")) -> 0 | I18: =IF(OR(C18="",D18="",F18=""),"",C18*D18*F18) -> 0
A19: EURCHF | B19: Forex | C19: 100000 | D19: 0.0001 | E19: CHF | F19: =IF(E19="","",IFERROR(VLOOKUP(E19,$L$5:$M$24,2,FALSE),"")) -> 0 | I19: =IF(OR(C19="",D19="",F19=""),"",C19*D19*F19) -> 0
A20: EURAUD | B20: Forex | C20: 100000 | D20: 0.0001 | E20: AUD | F20: =IF(E20="","",IFERROR(VLOOKUP(E20,$L$5:$M$24,2,FALSE),"")) -> 0 | I20: =IF(OR(C20="",D20="",F20=""),"",C20*D20*F20) -> 0
A21: EURCAD | B21: Forex | C21: 100000 | D21: 0.0001 | E21: CAD | F21: =IF(E21="","",IFERROR(VLOOKUP(E21,$L$5:$M$24,2,FALSE),"")) -> 0 | I21: =IF(OR(C21="",D21="",F21=""),"",C21*D21*F21) -> 0
A22: GBPCHF | B22: Forex | C22: 100000 | D22: 0.0001 | E22: CHF | F22: =IF(E22="","",IFERROR(VLOOKUP(E22,$L$5:$M$24,2,FALSE),"")) -> 0 | I22: =IF(OR(C22="",D22="",F22=""),"",C22*D22*F22) -> 0
A23: GBPAUD | B23: Forex | C23: 100000 | D23: 0.0001 | E23: AUD | F23: =IF(E23="","",IFERROR(VLOOKUP(E23,$L$5:$M$24,2,FALSE),"")) -> 0 | I23: =IF(OR(C23="",D23="",F23=""),"",C23*D23*F23) -> 0
A24: AUDCAD | B24: Forex | C24: 100000 | D24: 0.0001 | E24: CAD | F24: =IF(E24="","",IFERROR(VLOOKUP(E24,$L$5:$M$24,2,FALSE),"")) -> 0 | I24: =IF(OR(C24="",D24="",F24=""),"",C24*D24*F24) -> 0
A25: AUDNZD | B25: Forex | C25: 100000 | D25: 0.0001 | E25: NZD | F25: =IF(E25="","",IFERROR(VLOOKUP(E25,$L$5:$M$24,2,FALSE),"")) -> 0 | I25: =IF(OR(C25="",D25="",F25=""),"",C25*D25*F25) -> 0
A26: CADCHF | B26: Forex | C26: 100000 | D26: 0.0001 | E26: CHF | F26: =IF(E26="","",IFERROR(VLOOKUP(E26,$L$5:$M$24,2,FALSE),"")) -> 0 | I26: =IF(OR(C26="",D26="",F26=""),"",C26*D26*F26) -> 0 | L26: Example rates: update them.
A27: XAUUSD | B27: Metal | C27: 100 | D27: 0.01 | E27: USD | F27: =IF(E27="","",IFERROR(VLOOKUP(E27,$L$5:$M$24,2,FALSE),"")) -> 0 | I27: =IF(OR(C27="",D27="",F27=""),"",C27*D27*F27) -> 0 | J27: 1 lot = 100 oz | L27: The account currency row must be 1.
A28: XAGUSD | B28: Metal | C28: 5000 | D28: 0.001 | E28: USD | F28: =IF(E28="","",IFERROR(VLOOKUP(E28,$L$5:$M$24,2,FALSE),"")) -> 0 | I28: =IF(OR(C28="",D28="",F28=""),"",C28*D28*F28) -> 0 | J28: 1 lot = 5000 oz
A29: US30 | B29: Index | C29: 1 | D29: 1 | E29: USD | F29: =IF(E29="","",IFERROR(VLOOKUP(E29,$L$5:$M$24,2,FALSE),"")) -> 0 | G29: 0 | I29: =IF(OR(C29="",D29="",F29=""),"",C29*D29*F29) -> 0 | J29: 1 lot = 1 USD per point (broker-specific)
A30: NAS100 | B30: Index | C30: 1 | D30: 1 | E30: USD | F30: =IF(E30="","",IFERROR(VLOOKUP(E30,$L$5:$M$24,2,FALSE),"")) -> 0 | G30: 0 | I30: =IF(OR(C30="",D30="",F30=""),"",C30*D30*F30) -> 0 | J30: 1 lot = 1 USD per point (broker-specific)
A31: SPX500 | B31: Index | C31: 1 | D31: 0.1 | E31: USD | F31: =IF(E31="","",IFERROR(VLOOKUP(E31,$L$5:$M$24,2,FALSE),"")) -> 0 | G31: 0 | I31: =IF(OR(C31="",D31="",F31=""),"",C31*D31*F31) -> 0 | J31: 1 lot = 1 USD per point (broker-specific)
A32: GER40 | B32: Index | C32: 1 | D32: 1 | E32: EUR | F32: =IF(E32="","",IFERROR(VLOOKUP(E32,$L$5:$M$24,2,FALSE),"")) -> 0 | G32: 0 | I32: =IF(OR(C32="",D32="",F32=""),"",C32*D32*F32) -> 0 | J32: 1 lot = 1 EUR per point (broker-specific)
A33: BTCUSD | B33: Crypto | C33: 1 | D33: 1 | E33: USD | F33: =IF(E33="","",IFERROR(VLOOKUP(E33,$L$5:$M$24,2,FALSE),"")) -> 0 | H33: 0.001 | I33: =IF(OR(C33="",D33="",F33=""),"",C33*D33*F33) -> 0 | J33: 1 lot = 1 BTC; commission 0.10% of notional
A34: ETHUSD | B34: Crypto | C34: 1 | D34: 0.01 | E34: USD | F34: =IF(E34="","",IFERROR(VLOOKUP(E34,$L$5:$M$24,2,FALSE),"")) -> 0 | H34: 0.001 | I34: =IF(OR(C34="",D34="",F34=""),"",C34*D34*F34) -> 0 | J34: 1 lot = 1 ETH; commission 0.10% of notional
A35: AAPL | B35: Stock | C35: 1 | D35: 0.01 | E35: USD | F35: =IF(E35="","",IFERROR(VLOOKUP(E35,$L$5:$M$24,2,FALSE),"")) -> 0 | G35: 0.01 | I35: =IF(OR(C35="",D35="",F35=""),"",C35*D35*F35) -> 0 | J35: 1 lot = 1 share; commission per share
A36: TSLA | B36: Stock | C36: 1 | D36: 0.01 | E36: USD | F36: =IF(E36="","",IFERROR(VLOOKUP(E36,$L$5:$M$24,2,FALSE),"")) -> 0 | G36: 0.01 | I36: =IF(OR(C36="",D36="",F36=""),"",C36*D36*F36) -> 0 | J36: 1 lot = 1 share; commission per share
A37: MSFT | B37: Stock | C37: 1 | D37: 0.01 | E37: USD | F37: =IF(E37="","",IFERROR(VLOOKUP(E37,$L$5:$M$24,2,FALSE),"")) -> 0 | G37: 0.01 | I37: =IF(OR(C37="",D37="",F37=""),"",C37*D37*F37) -> 0 | J37: 1 lot = 1 share; commission per share
F38: =IF(E38="","",IFERROR(VLOOKUP(E38,$L$5:$M$24,2,FALSE),"")) -> 0 | I38: =IF(OR(C38="",D38="",F38=""),"",C38*D38*F38) -> 0
F39: =IF(E39="","",IFERROR(VLOOKUP(E39,$L$5:$M$24,2,FALSE),"")) -> 0 | I39: =IF(OR(C39="",D39="",F39=""),"",C39*D39*F39) -> 0
F40: =IF(E40="","",IFERROR(VLOOKUP(E40,$L$5:$M$24,2,FALSE),"")) -> 0 | I40: =IF(OR(C40="",D40="",F40=""),"",C40*D40*F40) -> 0
...

Sheet Settings
A1: Settings
A2: Sessions are matched in UTC, top row first. A start after the end crosses midnight. Keep the rows contiguous from the top. Times in the Journal are converted with the Journal time zone.
A4: Session | B4: Start (UTC) | C4: End (UTC) | D4: Start (min) | E4: End (min) | G4: Outcomes | I4: Risk % list | K4: Lot list | M4: Risk modes | O4: Risk based on | Q4: Directions
A5: Asian | B5: 0.875 | C5: 0.29166667 | D5: =IF(OR(A5="",NOT(ISNUMBER(B5)),NOT(ISNUMBER(C5))),"",ROUND(MOD(B5,1)*1440,0)) -> 0 | E5: =IF(OR(A5="",NOT(ISNUMBER(B5)),NOT(ISNUMBER(C5))),"",ROUND(MOD(C5,1)*1440,0)) -> 0 | G5: SL | I5: 0.0025 | K5: 0.01 | M5: % of account | O5: Current balance | Q5: LONG
A6: London | B6: 0.29166667 | C6: 0.54166667 | D6: =IF(OR(A6="",NOT(ISNUMBER(B6)),NOT(ISNUMBER(C6))),"",ROUND(MOD(B6,1)*1440,0)) -> 0 | E6: =IF(OR(A6="",NOT(ISNUMBER(B6)),NOT(ISNUMBER(C6))),"",ROUND(MOD(C6,1)*1440,0)) -> 0 | G6: TP | I6: 0.005 | K6: 0.02 | M6: Fixed lots | O6: Starting balance | Q6: SHORT
A7: New York | B7: 0.54166667 | C7: 0.875 | D7: =IF(OR(A7="",NOT(ISNUMBER(B7)),NOT(ISNUMBER(C7))),"",ROUND(MOD(B7,1)*1440,0)) -> 0 | E7: =IF(OR(A7="",NOT(ISNUMBER(B7)),NOT(ISNUMBER(C7))),"",ROUND(MOD(C7,1)*1440,0)) -> 0 | G7: Manual exit | I7: 0.0075 | K7: 0.05
D8: =IF(OR(A8="",NOT(ISNUMBER(B8)),NOT(ISNUMBER(C8))),"",ROUND(MOD(B8,1)*1440,0)) -> 0 | E8: =IF(OR(A8="",NOT(ISNUMBER(B8)),NOT(ISNUMBER(C8))),"",ROUND(MOD(C8,1)*1440,0)) -> 0 | G8: TP1 + Breakeven | I8: 0.01 | K8: 0.1
D9: =IF(OR(A9="",NOT(ISNUMBER(B9)),NOT(ISNUMBER(C9))),"",ROUND(MOD(B9,1)*1440,0)) -> 0 | E9: =IF(OR(A9="",NOT(ISNUMBER(B9)),NOT(ISNUMBER(C9))),"",ROUND(MOD(C9,1)*1440,0)) -> 0 | G9: TP1 + Manual | I9: 0.015 | K9: 0.2
D10: =IF(OR(A10="",NOT(ISNUMBER(B10)),NOT(ISNUMBER(C10))),"",ROUND(MOD(B10,1)*1440,0)) -> 0 | E10: =IF(OR(A10="",NOT(ISNUMBER(B10)),NOT(ISNUMBER(C10))),"",ROUND(MOD(C10,1)*1440,0)) -> 0 | G10: Multiple TP | I10: 0.02 | K10: 0.25
I11: 0.025 | K11: 0.5
I12: 0.03 | K12: 1
G13: Outcome names are used by the formulas: do not rename them. | I13: 0.04 | K13: 2
I14: 0.05 | K14: 5
I15: 0.1 | K15: 10
I17: Risk and lot lists only feed the Journal dropdown; any value can be typed.

Sheet Calc
A1: Calculation engine. Row r belongs to Journal row r. Generated by journal/v2/build.py; see SPEC.md.
A10: used | B10: instrument row | C10: contract size | D10: quote->account | E10: commission/lot | F10: commission % notional | G10: dir | H10: stop distance | I10: sizing check | J10: status | K10: counted | L10: tp1 share | M10: move | N10: averaged exit | O10: balance before | P10: lot | Q10: balance after | R10: risk amount | S10: gross | T10: commission | U10: category | V10: net | W10: account change | X10: R | Y10: planned RR | Z10: session | AA10: UTC minute | AB10: direction | AC10: running count | AD10: seq | AE10: open | AF10: error | AH10: eq k | AI10: equity | AJ10: lot k | AK10: lot by trade | AM10: symbol | AN10: trades | AO10: net | AP10: order | AQ10: k | AR10: instrument | AS10: instrument net | AU10: session | AV10: trades | AW10: net | AY10: stat | AZ10: value | BB10: direction | BC10: trades | BD10: net
A11: =COUNTA(Journal!A11:M11)>0 -> 0 | B11: =IF(Journal!$C11="",0,IFERROR(MATCH(Journal!$C11,Markets!$A$5:$A$154,0),0)) -> 0 | C11: =IF(B11>0,INDEX(Markets!$C$5:$C$154,B11),"") -> 0 | D11: =IF(B11>0,INDEX(Markets!$F$5:$F$154,B11),"") -> 0 | E11: =IF(B11>0,IF(INDEX(Markets!$G$5:$G$154,B11)="",Journal!$D$4,INDEX(Markets!$G$5:$G$154,B11)),"") -> 0 | F11: =IF(B11>0,N(INDEX(Markets!$H$5:$H$154,B11)),0) -> 0 | G11: =IF(Journal!$D11="LONG",1,IF(Journal!$D11="SHORT",-1,0)) -> 0 | H11: =IF(AND(ISNUMBER(Journal!$E11),ISNUMBER(Journal!$F11)),ABS(Journal!$E11-Journal!$F11),"") -> 0 | I11: =IF(NOT(A11),"",IF(Journal!$C11="","INSTRUMENT MISSING",IF(B11=0,"UNKNOWN INSTRUMENT",IF(OR(NOT(ISNUMBER(C11)),NOT(ISNUMBER(D11))),"INSTRUMENT SPECS MISSING",IF(OR(C11<=0,D11<=0),"INSTRUMENT SPECS MISSING",IF(NOT(ISNUMBER(Journal!$E11)),"ENTRY MISSING",IF(NOT(ISNUMBER(Journal!$F11)),"SL MISSING",IF(Journal!$F11=Journal!$E11,"SL = ENTRY",IF(G11=0,"DIRECTION MISSING",IF(G11*(Journal!$E11-Journal!$F11)<=0,"SL WRONG SIDE",IF(NOT(AND(ISNUMBER(Journal!$L11),Journal!$L11>0)),IF(TRUE,"LOTS MISSING","RISK MISSING"),""))))))))))) -> 0 | J11: =IF(NOT(A11),"",IF(I11<>"",I11,IF(AND(ISNUMBER(Journal!$G11),G11*(Journal!$G11-Journal!$E11)<=0),"TP1 WRONG SIDE",IF(AND(ISNUMBER(Journal!$H11),G11*(Journal!$H11-Journal!$E11)<=0),"TP2 WRONG SIDE",IF(AND(ISNUMBER(Journal!$I11),G11*(Journal!$I11-Journal!$E11)<=0),"TP3 WRONG SIDE",IF(Journal!$K11="","OPEN",IF(AND(Journal!$M11<>"",OR(NOT(ISNUMBER(Journal!$M11)),Journal!$M11<=0,Journal!$M11>=1)),"TP1 % INVALID",IF(Journal!$K11="SL","OK",IF(Journal!$K11="TP",IF(ISNUMBER(Journal!$G11),"OK","TP1 MISSING"),IF(Journal!$K11="Manual exit",IF(ISNUMBER(Journal!$J11),"OK","MANUAL MISSING"),IF(Journal!$K11="TP1 + Breakeven",IF(ISNUMBER(Journal!$G11),"OK","TP1 MISSING"),IF(Journal!$K11="TP1 + Manual",IF(ISNUMBER(Journal!$G11),IF(ISNUMBER(Journal!$J11),"OK","MANUAL MISSING"),IF(ISNUMBER(Journal!$J11),"TP1 MISSING","TP1 & MANUAL MISSING")),IF(Journal!$K11="Multiple TP",IF(ISNUMBER(Journal!$G11),IF(ISNUMBER(Journal!$H11),"OK","TP2 MISSING"),IF(ISNUMBER(Journal!$H11),"TP1 MISSING","TP1 & TP2 MISSING")),"UNKNOWN OUTCOME"))))))))))))) -> 0 | K11: =J11="OK" -> 0 | L11: =IF(ISNUMBER(Journal!$M11),Journal!$M11,0.5) -> 0 | M11: =IF(NOT(K11),"",G11*IF(Journal!$K11="SL",Journal!$F11-Journal!$E11,IF(Journal!$K11="TP",Journal!$G11-Journal!$E11,IF(Journal!$K11="Manual exit",Journal!$J11-Journal!$E11,IF(Journal!$K11="TP1 + Breakeven",L11*(Journal!$G11-Journal!$E11),IF(Journal!$K11="TP1 + Manual",L11*(Journal!$G11-Journal!$E11)+(1-L11)*(Journal!$J11-Journal!$E11),(Journal!$G11+Journal!$H11+IF(ISNUMBER(Journal!$I11),Journal!$I11,0))/IF(ISNUMBER(Journal!$I11),3,2)-Journal!$E11)))))) -> 0 | N11: =IF(K11,Journal!$E11+G11*M11,"") -> 0 | O11: =Journal!$D$3 -> 0 | P11: =IF(OR(NOT(A11),I11<>""),"",Journal!$L11) -> 0 | Q11: =O11+IF(K11,V11,0) -> 0 | R11: =IF(P11="","",H11*P11*C11*D11) -> 0 | S11: =IF(K11,M11*P11*C11*D11,"") -> 0 | T11: =IF(K11,-IF(F11>0,F11*Journal!$E11*P11*C11*D11,P11*E11),"") -> 0 | U11: =IF(K11,IF(S11>0,"W",IF(S11<0,"L","B")),"") -> 0 | V11: =IF(K11,S11+T11,"") -> 0 | W11: =IF(K11,V11/O11,"") -> 0 | X11: =IF(K11,M11/H11,"") -> 0 | Y11: =IF(AND(OR(J11="OK",J11="OPEN"),ISNUMBER(Journal!$G11)),G11*(Journal!$G11-Journal!$E11)/H11,"") -> 0 | Z11: =IF(AA11="","",IF(AND(ISNUMBER(Settings!$D$5),ISNUMBER(Settings!$E$5),IF(Settings!$D$5<=Settings!$E$5,AND(AA11>=Settings!$D$5,AA11<Settings!$E$5),OR(AA11>=Settings!$D$5,AA11<Settings!$E$5))),Settings!$A$5,IF(AND(ISNUMBER(Settings!$D$6),ISNUMBER(Settings!$E$6),IF(Settings!$D$6<=Settings!$E$6,AND(AA11>=Settings!$D$6,AA11<Settings!$E$6),OR(AA11>=Settings!$D$6,AA11<Settings!$E$6))),Settings!$A$6,IF(AND(ISNUMBER(Settings!$D$7),ISNUMBER(Settings!$E$7),IF(Settings!$D$7<=Settings!$E$7,AND(AA11>=Settings!$D$7,AA11<Settings!$E$7),OR(AA11>=Settings!$D$7,AA11<Settings!$E$7))),Settings!$A$7,IF(AND(ISNUMBER(Settings!$D$8),ISNUMBER(Settings!$E$8),IF(Settings!$D$8<=Settings!$E$8,AND(AA11>=Settings!$D$8,AA11<Settings!$E$8),OR(AA11>=Settings!$D$8,AA11<Settings!$E$8))),Settings!$A$8,IF(AND(ISNUMBER(Settings!$D$9),ISNUMBER(Settings!$E$9),IF(Settings!$D$9<=Settings!$E$9,AND(AA11>=Settings!$D$9,AA11<Settings!$E$9),OR(AA11>=Settings!$D$9,AA11<Settings!$E$9))),Settings!$A$9,IF(AND(ISNUMBER(Settings!$D$10),ISNUMBER(Settings!$E$10),IF(Settings!$D$10<=Settings!$E$10,AND(AA11>=Settings!$D$10,AA11<Settings!$E$10),OR(AA11>=Settings!$D$10,AA11<Settings!$E$10))),Settings!$A$10,""))))))) -> 0 | AA11: =IF(AND(A11,ISNUMBER(Journal!$B11)),MOD(ROUND(MOD(Journal!$B11,1)*1440,0)-ROUND(Journal!$D$8*60,0),1440),"") -> 0 | AB11: =IF(G11=1,"LONG",IF(G11=-1,"SHORT","")) -> 0 | AC11: =IF(K11,1,0) -> 0 | AD11: =IF(K11,AC11,"") -> 0 | AE11: =J11="OPEN" -> 0 | AF11: =AND(J11<>"",J11<>"OK",J11<>"OPEN") -> 0 | AH11: 0 | AI11: =IF(AH11>$AZ$11,"",IF(AH11=0,Journal!$D$3,INDEX($Q$11:$Q$1010,MATCH(AH11,$AD$11:$AD$1010,0)))) -> 0 | AJ11: 1 | AK11: =IF(AJ11>$AZ$11,"",INDEX($P$11:$P$1010,MATCH(AJ11,$AD$11:$AD$1010,0))) -> 0 | AM11: =IF(Markets!$A$5="","",Markets!$A$5) -> 0 | AN11: =IF(AM11="",0,COUNTIFS(Journal!$C$11:$C$1010,AM11,$K$11:$K$1010,TRUE)) -> 0 | AO11: =IF(AN11=0,0,SUMIF(Journal!$C$11:$C$1010,AM11,$V$11:$V$1010)) -> 0 | AP11: =IF(AN11>0,COUNTIF($AN$11:AN11,">0"),"") -> 0 | AQ11: 1 | AR11: =IF(AQ11>$AZ$36,"",INDEX($AM$11:$AM$160,MATCH(AQ11,$AP$11:$AP$160,0))) -> 0 | AS11: =IF(AQ11>$AZ$36,"",INDEX($AO$11:$AO$160,MATCH(AQ11,$AP$11:$AP$160,0))) -> 0 | AU11: =IF(AND(Settings!$A$5<>"",ISNUMBER(Settings!$D$5),ISNUMBER(Settings!$E$5)),Settings!$A$5,"") -> 0 | AV11: =IF(AU11="",0,COUNTIFS($Z$11:$Z$1010,AU11,$K$11:$K$1010,TRUE)) -> 0 | AW11: =IF(AU11="",0,SUMIF($Z$11:$Z$1010,AU11,$V$11:$V$1010)) -> 0 | AY11: n | AZ11: =COUNTIF($K$11:$K$1010,TRUE) -> 0 | BB11: LONG | BC11: =$AZ$32 -> 0 | BD11: =$AZ$34 -> 0
A12: =COUNTA(Journal!A12:M12)>0 -> 0 | B12: =IF(Journal!$C12="",0,IFERROR(MATCH(Journal!$C12,Markets!$A$5:$A$154,0),0)) -> 0 | C12: =IF(B12>0,INDEX(Markets!$C$5:$C$154,B12),"") -> 0 | D12: =IF(B12>0,INDEX(Markets!$F$5:$F$154,B12),"") -> 0 | E12: =IF(B12>0,IF(INDEX(Markets!$G$5:$G$154,B12)="",Journal!$D$4,INDEX(Markets!$G$5:$G$154,B12)),"") -> 0 | F12: =IF(B12>0,N(INDEX(Markets!$H$5:$H$154,B12)),0) -> 0 | G12: =IF(Journal!$D12="LONG",1,IF(Journal!$D12="SHORT",-1,0)) -> 0 | H12: =IF(AND(ISNUMBER(Journal!$E12),ISNUMBER(Journal!$F12)),ABS(Journal!$E12-Journal!$F12),"") -> 0 | I12: =IF(NOT(A12),"",IF(Journal!$C12="","INSTRUMENT MISSING",IF(B12=0,"UNKNOWN INSTRUMENT",IF(OR(NOT(ISNUMBER(C12)),NOT(ISNUMBER(D12))),"INSTRUMENT SPECS MISSING",IF(OR(C12<=0,D12<=0),"INSTRUMENT SPECS MISSING",IF(NOT(ISNUMBER(Journal!$E12)),"ENTRY MISSING",IF(NOT(ISNUMBER(Journal!$F12)),"SL MISSING",IF(Journal!$F12=Journal!$E12,"SL = ENTRY",IF(G12=0,"DIRECTION MISSING",IF(G12*(Journal!$E12-Journal!$F12)<=0,"SL WRONG SIDE",IF(NOT(AND(ISNUMBER(Journal!$L12),Journal!$L12>0)),IF(TRUE,"LOTS MISSING","RISK MISSING"),""))))))))))) -> 0 | J12: =IF(NOT(A12),"",IF(I12<>"",I12,IF(AND(ISNUMBER(Journal!$G12),G12*(Journal!$G12-Journal!$E12)<=0),"TP1 WRONG SIDE",IF(AND(ISNUMBER(Journal!$H12),G12*(Journal!$H12-Journal!$E12)<=0),"TP2 WRONG SIDE",IF(AND(ISNUMBER(Journal!$I12),G12*(Journal!$I12-Journal!$E12)<=0),"TP3 WRONG SIDE",IF(Journal!$K12="","OPEN",IF(AND(Journal!$M12<>"",OR(NOT(ISNUMBER(Journal!$M12)),Journal!$M12<=0,Journal!$M12>=1)),"TP1 % INVALID",IF(Journal!$K12="SL","OK",IF(Journal!$K12="TP",IF(ISNUMBER(Journal!$G12),"OK","TP1 MISSING"),IF(Journal!$K12="Manual exit",IF(ISNUMBER(Journal!$J12),"OK","MANUAL MISSING"),IF(Journal!$K12="TP1 + Breakeven",IF(ISNUMBER(Journal!$G12),"OK","TP1 MISSING"),IF(Journal!$K12="TP1 + Manual",IF(ISNUMBER(Journal!$G12),IF(ISNUMBER(Journal!$J12),"OK","MANUAL MISSING"),IF(ISNUMBER(Journal!$J12),"TP1 MISSING","TP1 & MANUAL MISSING")),IF(Journal!$K12="Multiple TP",IF(ISNUMBER(Journal!$G12),IF(ISNUMBER(Journal!$H12),"OK","TP2 MISSING"),IF(ISNUMBER(Journal!$H12),"TP1 MISSING","TP1 & TP2 MISSING")),"UNKNOWN OUTCOME"))))))))))))) -> 0 | K12: =J12="OK" -> 0 | L12: =IF(ISNUMBER(Journal!$M12),Journal!$M12,0.5) -> 0 | M12: =IF(NOT(K12),"",G12*IF(Journal!$K12="SL",Journal!$F12-Journal!$E12,IF(Journal!$K12="TP",Journal!$G12-Journal!$E12,IF(Journal!$K12="Manual exit",Journal!$J12-Journal!$E12,IF(Journal!$K12="TP1 + Breakeven",L12*(Journal!$G12-Journal!$E12),IF(Journal!$K12="TP1 + Manual",L12*(Journal!$G12-Journal!$E12)+(1-L12)*(Journal!$J12-Journal!$E12),(Journal!$G12+Journal!$H12+IF(ISNUMBER(Journal!$I12),Journal!$I12,0))/IF(ISNUMBER(Journal!$I12),3,2)-Journal!$E12)))))) -> 0 | N12: =IF(K12,Journal!$E12+G12*M12,"") -> 0 | O12: =Q11 -> 0 | P12: =IF(OR(NOT(A12),I12<>""),"",Journal!$L12) -> 0 | Q12: =O12+IF(K12,V12,0) -> 0 | R12: =IF(P12="","",H12*P12*C12*D12) -> 0 | S12: =IF(K12,M12*P12*C12*D12,"") -> 0 | T12: =IF(K12,-IF(F12>0,F12*Journal!$E12*P12*C12*D12,P12*E12),"") -> 0 | U12: =IF(K12,IF(S12>0,"W",IF(S12<0,"L","B")),"") -> 0 | V12: =IF(K12,S12+T12,"") -> 0 | W12: =IF(K12,V12/O12,"") -> 0 | X12: =IF(K12,M12/H12,"") -> 0 | Y12: =IF(AND(OR(J12="OK",J12="OPEN"),ISNUMBER(Journal!$G12)),G12*(Journal!$G12-Journal!$E12)/H12,"") -> 0 | Z12: =IF(AA12="","",IF(AND(ISNUMBER(Settings!$D$5),ISNUMBER(Settings!$E$5),IF(Settings!$D$5<=Settings!$E$5,AND(AA12>=Settings!$D$5,AA12<Settings!$E$5),OR(AA12>=Settings!$D$5,AA12<Settings!$E$5))),Settings!$A$5,IF(AND(ISNUMBER(Settings!$D$6),ISNUMBER(Settings!$E$6),IF(Settings!$D$6<=Settings!$E$6,AND(AA12>=Settings!$D$6,AA12<Settings!$E$6),OR(AA12>=Settings!$D$6,AA12<Settings!$E$6))),Settings!$A$6,IF(AND(ISNUMBER(Settings!$D$7),ISNUMBER(Settings!$E$7),IF(Settings!$D$7<=Settings!$E$7,AND(AA12>=Settings!$D$7,AA12<Settings!$E$7),OR(AA12>=Settings!$D$7,AA12<Settings!$E$7))),Settings!$A$7,IF(AND(ISNUMBER(Settings!$D$8),ISNUMBER(Settings!$E$8),IF(Settings!$D$8<=Settings!$E$8,AND(AA12>=Settings!$D$8,AA12<Settings!$E$8),OR(AA12>=Settings!$D$8,AA12<Settings!$E$8))),Settings!$A$8,IF(AND(ISNUMBER(Settings!$D$9),ISNUMBER(Settings!$E$9),IF(Settings!$D$9<=Settings!$E$9,AND(AA12>=Settings!$D$9,AA12<Settings!$E$9),OR(AA12>=Settings!$D$9,AA12<Settings!$E$9))),Settings!$A$9,IF(AND(ISNUMBER(Settings!$D$10),ISNUMBER(Settings!$E$10),IF(Settings!$D$10<=Settings!$E$10,AND(AA12>=Settings!$D$10,AA12<Settings!$E$10),OR(AA12>=Settings!$D$10,AA12<Settings!$E$10))),Settings!$A$10,""))))))) -> 0 | AA12: =IF(AND(A12,ISNUMBER(Journal!$B12)),MOD(ROUND(MOD(Journal!$B12,1)*1440,0)-ROUND(Journal!$D$8*60,0),1440),"") -> 0 | AB12: =IF(G12=1,"LONG",IF(G12=-1,"SHORT","")) -> 0 | AC12: =AC11+IF(K12,1,0) -> 0 | AD12: =IF(K12,AC12,"") -> 0 | AE12: =J12="OPEN" -> 0 | AF12: =AND(J12<>"",J12<>"OK",J12<>"OPEN") -> 0 | AH12: 1 | AI12: =IF(AH12>$AZ$11,"",IF(AH12=0,Journal!$D$3,INDEX($Q$11:$Q$1010,MATCH(AH12,$AD$11:$AD$1010,0)))) -> 0 | AJ12: 2 | AK12: =IF(AJ12>$AZ$11,"",INDEX($P$11:$P$1010,MATCH(AJ12,$AD$11:$AD$1010,0))) -> 0 | AM12: =IF(Markets!$A$6="","",Markets!$A$6) -> 0 | AN12: =IF(AM12="",0,COUNTIFS(Journal!$C$11:$C$1010,AM12,$K$11:$K$1010,TRUE)) -> 0 | AO12: =IF(AN12=0,0,SUMIF(Journal!$C$11:$C$1010,AM12,$V$11:$V$1010)) -> 0 | AP12: =IF(AN12>0,COUNTIF($AN$11:AN12,">0"),"") -> 0 | AQ12: 2 | AR12: =IF(AQ12>$AZ$36,"",INDEX($AM$11:$AM$160,MATCH(AQ12,$AP$11:$AP$160,0))) -> 0 | AS12: =IF(AQ12>$AZ$36,"",INDEX($AO$11:$AO$160,MATCH(AQ12,$AP$11:$AP$160,0))) -> 0 | AU12: =IF(AND(Settings!$A$6<>"",ISNUMBER(Settings!$D$6),ISNUMBER(Settings!$E$6)),Settings!$A$6,"") -> 0 | AV12: =IF(AU12="",0,COUNTIFS($Z$11:$Z$1010,AU12,$K$11:$K$1010,TRUE)) -> 0 | AW12: =IF(AU12="",0,SUMIF($Z$11:$Z$1010,AU12,$V$11:$V$1010)) -> 0 | AY12: wins | AZ12: =COUNTIF($U$11:$U$1010,"W") -> 0 | BB12: SHORT | BC12: =$AZ$33 -> 0 | BD12: =$AZ$35 -> 0
A13: =COUNTA(Journal!A13:M13)>0 -> 0 | B13: =IF(Journal!$C13="",0,IFERROR(MATCH(Journal!$C13,Markets!$A$5:$A$154,0),0)) -> 0 | C13: =IF(B13>0,INDEX(Markets!$C$5:$C$154,B13),"") -> 0 | D13: =IF(B13>0,INDEX(Markets!$F$5:$F$154,B13),"") -> 0 | E13: =IF(B13>0,IF(INDEX(Markets!$G$5:$G$154,B13)="",Journal!$D$4,INDEX(Markets!$G$5:$G$154,B13)),"") -> 0 | F13: =IF(B13>0,N(INDEX(Markets!$H$5:$H$154,B13)),0) -> 0 | G13: =IF(Journal!$D13="LONG",1,IF(Journal!$D13="SHORT",-1,0)) -> 0 | H13: =IF(AND(ISNUMBER(Journal!$E13),ISNUMBER(Journal!$F13)),ABS(Journal!$E13-Journal!$F13),"") -> 0 | I13: =IF(NOT(A13),"",IF(Journal!$C13="","INSTRUMENT MISSING",IF(B13=0,"UNKNOWN INSTRUMENT",IF(OR(NOT(ISNUMBER(C13)),NOT(ISNUMBER(D13))),"INSTRUMENT SPECS MISSING",IF(OR(C13<=0,D13<=0),"INSTRUMENT SPECS MISSING",IF(NOT(ISNUMBER(Journal!$E13)),"ENTRY MISSING",IF(NOT(ISNUMBER(Journal!$F13)),"SL MISSING",IF(Journal!$F13=Journal!$E13,"SL = ENTRY",IF(G13=0,"DIRECTION MISSING",IF(G13*(Journal!$E13-Journal!$F13)<=0,"SL WRONG SIDE",IF(NOT(AND(ISNUMBER(Journal!$L13),Journal!$L13>0)),IF(TRUE,"LOTS MISSING","RISK MISSING"),""))))))))))) -> 0 | J13: =IF(NOT(A13),"",IF(I13<>"",I13,IF(AND(ISNUMBER(Journal!$G13),G13*(Journal!$G13-Journal!$E13)<=0),"TP1 WRONG SIDE",IF(AND(ISNUMBER(Journal!$H13),G13*(Journal!$H13-Journal!$E13)<=0),"TP2 WRONG SIDE",IF(AND(ISNUMBER(Journal!$I13),G13*(Journal!$I13-Journal!$E13)<=0),"TP3 WRONG SIDE",IF(Journal!$K13="","OPEN",IF(AND(Journal!$M13<>"",OR(NOT(ISNUMBER(Journal!$M13)),Journal!$M13<=0,Journal!$M13>=1)),"TP1 % INVALID",IF(Journal!$K13="SL","OK",IF(Journal!$K13="TP",IF(ISNUMBER(Journal!$G13),"OK","TP1 MISSING"),IF(Journal!$K13="Manual exit",IF(ISNUMBER(Journal!$J13),"OK","MANUAL MISSING"),IF(Journal!$K13="TP1 + Breakeven",IF(ISNUMBER(Journal!$G13),"OK","TP1 MISSING"),IF(Journal!$K13="TP1 + Manual",IF(ISNUMBER(Journal!$G13),IF(ISNUMBER(Journal!$J13),"OK","MANUAL MISSING"),IF(ISNUMBER(Journal!$J13),"TP1 MISSING","TP1 & MANUAL MISSING")),IF(Journal!$K13="Multiple TP",IF(ISNUMBER(Journal!$G13),IF(ISNUMBER(Journal!$H13),"OK","TP2 MISSING"),IF(ISNUMBER(Journal!$H13),"TP1 MISSING","TP1 & TP2 MISSING")),"UNKNOWN OUTCOME"))))))))))))) -> 0 | K13: =J13="OK" -> 0 | L13: =IF(ISNUMBER(Journal!$M13),Journal!$M13,0.5) -> 0 | M13: =IF(NOT(K13),"",G13*IF(Journal!$K13="SL",Journal!$F13-Journal!$E13,IF(Journal!$K13="TP",Journal!$G13-Journal!$E13,IF(Journal!$K13="Manual exit",Journal!$J13-Journal!$E13,IF(Journal!$K13="TP1 + Breakeven",L13*(Journal!$G13-Journal!$E13),IF(Journal!$K13="TP1 + Manual",L13*(Journal!$G13-Journal!$E13)+(1-L13)*(Journal!$J13-Journal!$E13),(Journal!$G13+Journal!$H13+IF(ISNUMBER(Journal!$I13),Journal!$I13,0))/IF(ISNUMBER(Journal!$I13),3,2)-Journal!$E13)))))) -> 0 | N13: =IF(K13,Journal!$E13+G13*M13,"") -> 0 | O13: =Q12 -> 0 | P13: =IF(OR(NOT(A13),I13<>""),"",Journal!$L13) -> 0 | Q13: =O13+IF(K13,V13,0) -> 0 | R13: =IF(P13="","",H13*P13*C13*D13) -> 0 | S13: =IF(K13,M13*P13*C13*D13,"") -> 0 | T13: =IF(K13,-IF(F13>0,F13*Journal!$E13*P13*C13*D13,P13*E13),"") -> 0 | U13: =IF(K13,IF(S13>0,"W",IF(S13<0,"L","B")),"") -> 0 | V13: =IF(K13,S13+T13,"") -> 0 | W13: =IF(K13,V13/O13,"") -> 0 | X13: =IF(K13,M13/H13,"") -> 0 | Y13: =IF(AND(OR(J13="OK",J13="OPEN"),ISNUMBER(Journal!$G13)),G13*(Journal!$G13-Journal!$E13)/H13,"") -> 0 | Z13: =IF(AA13="","",IF(AND(ISNUMBER(Settings!$D$5),ISNUMBER(Settings!$E$5),IF(Settings!$D$5<=Settings!$E$5,AND(AA13>=Settings!$D$5,AA13<Settings!$E$5),OR(AA13>=Settings!$D$5,AA13<Settings!$E$5))),Settings!$A$5,IF(AND(ISNUMBER(Settings!$D$6),ISNUMBER(Settings!$E$6),IF(Settings!$D$6<=Settings!$E$6,AND(AA13>=Settings!$D$6,AA13<Settings!$E$6),OR(AA13>=Settings!$D$6,AA13<Settings!$E$6))),Settings!$A$6,IF(AND(ISNUMBER(Settings!$D$7),ISNUMBER(Settings!$E$7),IF(Settings!$D$7<=Settings!$E$7,AND(AA13>=Settings!$D$7,AA13<Settings!$E$7),OR(AA13>=Settings!$D$7,AA13<Settings!$E$7))),Settings!$A$7,IF(AND(ISNUMBER(Settings!$D$8),ISNUMBER(Settings!$E$8),IF(Settings!$D$8<=Settings!$E$8,AND(AA13>=Settings!$D$8,AA13<Settings!$E$8),OR(AA13>=Settings!$D$8,AA13<Settings!$E$8))),Settings!$A$8,IF(AND(ISNUMBER(Settings!$D$9),ISNUMBER(Settings!$E$9),IF(Settings!$D$9<=Settings!$E$9,AND(AA13>=Settings!$D$9,AA13<Settings!$E$9),OR(AA13>=Settings!$D$9,AA13<Settings!$E$9))),Settings!$A$9,IF(AND(ISNUMBER(Settings!$D$10),ISNUMBER(Settings!$E$10),IF(Settings!$D$10<=Settings!$E$10,AND(AA13>=Settings!$D$10,AA13<Settings!$E$10),OR(AA13>=Settings!$D$10,AA13<Settings!$E$10))),Settings!$A$10,""))))))) -> 0 | AA13: =IF(AND(A13,ISNUMBER(Journal!$B13)),MOD(ROUND(MOD(Journal!$B13,1)*1440,0)-ROUND(Journal!$D$8*60,0),1440),"") -> 0 | AB13: =IF(G13=1,"LONG",IF(G13=-1,"SHORT","")) -> 0 | AC13: =AC12+IF(K13,1,0) -> 0 | AD13: =IF(K13,AC13,"") -> 0 | AE13: =J13="OPEN" -> 0 | AF13: =AND(J13<>"",J13<>"OK",J13<>"OPEN") -> 0 | AH13: 2 | AI13: =IF(AH13>$AZ$11,"",IF(AH13=0,Journal!$D$3,INDEX($Q$11:$Q$1010,MATCH(AH13,$AD$11:$AD$1010,0)))) -> 0 | AJ13: 3 | AK13: =IF(AJ13>$AZ$11,"",INDEX($P$11:$P$1010,MATCH(AJ13,$AD$11:$AD$1010,0))) -> 0 | AM13: =IF(Markets!$A$7="","",Markets!$A$7) -> 0 | AN13: =IF(AM13="",0,COUNTIFS(Journal!$C$11:$C$1010,AM13,$K$11:$K$1010,TRUE)) -> 0 | AO13: =IF(AN13=0,0,SUMIF(Journal!$C$11:$C$1010,AM13,$V$11:$V$1010)) -> 0 | AP13: =IF(AN13>0,COUNTIF($AN$11:AN13,">0"),"") -> 0 | AQ13: 3 | AR13: =IF(AQ13>$AZ$36,"",INDEX($AM$11:$AM$160,MATCH(AQ13,$AP$11:$AP$160,0))) -> 0 | AS13: =IF(AQ13>$AZ$36,"",INDEX($AO$11:$AO$160,MATCH(AQ13,$AP$11:$AP$160,0))) -> 0 | AU13: =IF(AND(Settings!$A$7<>"",ISNUMBER(Settings!$D$7),ISNUMBER(Settings!$E$7)),Settings!$A$7,"") -> 0 | AV13: =IF(AU13="",0,COUNTIFS($Z$11:$Z$1010,AU13,$K$11:$K$1010,TRUE)) -> 0 | AW13: =IF(AU13="",0,SUMIF($Z$11:$Z$1010,AU13,$V$11:$V$1010)) -> 0 | AY13: losses | AZ13: =COUNTIF($U$11:$U$1010,"L") -> 0
A14: =COUNTA(Journal!A14:M14)>0 -> 0 | B14: =IF(Journal!$C14="",0,IFERROR(MATCH(Journal!$C14,Markets!$A$5:$A$154,0),0)) -> 0 | C14: =IF(B14>0,INDEX(Markets!$C$5:$C$154,B14),"") -> 0 | D14: =IF(B14>0,INDEX(Markets!$F$5:$F$154,B14),"") -> 0 | E14: =IF(B14>0,IF(INDEX(Markets!$G$5:$G$154,B14)="",Journal!$D$4,INDEX(Markets!$G$5:$G$154,B14)),"") -> 0 | F14: =IF(B14>0,N(INDEX(Markets!$H$5:$H$154,B14)),0) -> 0 | G14: =IF(Journal!$D14="LONG",1,IF(Journal!$D14="SHORT",-1,0)) -> 0 | H14: =IF(AND(ISNUMBER(Journal!$E14),ISNUMBER(Journal!$F14)),ABS(Journal!$E14-Journal!$F14),"") -> 0 | I14: =IF(NOT(A14),"",IF(Journal!$C14="","INSTRUMENT MISSING",IF(B14=0,"UNKNOWN INSTRUMENT",IF(OR(NOT(ISNUMBER(C14)),NOT(ISNUMBER(D14))),"INSTRUMENT SPECS MISSING",IF(OR(C14<=0,D14<=0),"INSTRUMENT SPECS MISSING",IF(NOT(ISNUMBER(Journal!$E14)),"ENTRY MISSING",IF(NOT(ISNUMBER(Journal!$F14)),"SL MISSING",IF(Journal!$F14=Journal!$E14,"SL = ENTRY",IF(G14=0,"DIRECTION MISSING",IF(G14*(Journal!$E14-Journal!$F14)<=0,"SL WRONG SIDE",IF(NOT(AND(ISNUMBER(Journal!$L14),Journal!$L14>0)),IF(TRUE,"LOTS MISSING","RISK MISSING"),""))))))))))) -> 0 | J14: =IF(NOT(A14),"",IF(I14<>"",I14,IF(AND(ISNUMBER(Journal!$G14),G14*(Journal!$G14-Journal!$E14)<=0),"TP1 WRONG SIDE",IF(AND(ISNUMBER(Journal!$H14),G14*(Journal!$H14-Journal!$E14)<=0),"TP2 WRONG SIDE",IF(AND(ISNUMBER(Journal!$I14),G14*(Journal!$I14-Journal!$E14)<=0),"TP3 WRONG SIDE",IF(Journal!$K14="","OPEN",IF(AND(Journal!$M14<>"",OR(NOT(ISNUMBER(Journal!$M14)),Journal!$M14<=0,Journal!$M14>=1)),"TP1 % INVALID",IF(Journal!$K14="SL","OK",IF(Journal!$K14="TP",IF(ISNUMBER(Journal!$G14),"OK","TP1 MISSING"),IF(Journal!$K14="Manual exit",IF(ISNUMBER(Journal!$J14),"OK","MANUAL MISSING"),IF(Journal!$K14="TP1 + Breakeven",IF(ISNUMBER(Journal!$G14),"OK","TP1 MISSING"),IF(Journal!$K14="TP1 + Manual",IF(ISNUMBER(Journal!$G14),IF(ISNUMBER(Journal!$J14),"OK","MANUAL MISSING"),IF(ISNUMBER(Journal!$J14),"TP1 MISSING","TP1 & MANUAL MISSING")),IF(Journal!$K14="Multiple TP",IF(ISNUMBER(Journal!$G14),IF(ISNUMBER(Journal!$H14),"OK","TP2 MISSING"),IF(ISNUMBER(Journal!$H14),"TP1 MISSING","TP1 & TP2 MISSING")),"UNKNOWN OUTCOME"))))))))))))) -> 0 | K14: =J14="OK" -> 0 | L14: =IF(ISNUMBER(Journal!$M14),Journal!$M14,0.5) -> 0 | M14: =IF(NOT(K14),"",G14*IF(Journal!$K14="SL",Journal!$F14-Journal!$E14,IF(Journal!$K14="TP",Journal!$G14-Journal!$E14,IF(Journal!$K14="Manual exit",Journal!$J14-Journal!$E14,IF(Journal!$K14="TP1 + Breakeven",L14*(Journal!$G14-Journal!$E14),IF(Journal!$K14="TP1 + Manual",L14*(Journal!$G14-Journal!$E14)+(1-L14)*(Journal!$J14-Journal!$E14),(Journal!$G14+Journal!$H14+IF(ISNUMBER(Journal!$I14),Journal!$I14,0))/IF(ISNUMBER(Journal!$I14),3,2)-Journal!$E14)))))) -> 0 | N14: =IF(K14,Journal!$E14+G14*M14,"") -> 0 | O14: =Q13 -> 0 | P14: =IF(OR(NOT(A14),I14<>""),"",Journal!$L14) -> 0 | Q14: =O14+IF(K14,V14,0) -> 0 | R14: =IF(P14="","",H14*P14*C14*D14) -> 0 | S14: =IF(K14,M14*P14*C14*D14,"") -> 0 | T14: =IF(K14,-IF(F14>0,F14*Journal!$E14*P14*C14*D14,P14*E14),"") -> 0 | U14: =IF(K14,IF(S14>0,"W",IF(S14<0,"L","B")),"") -> 0 | V14: =IF(K14,S14+T14,"") -> 0 | W14: =IF(K14,V14/O14,"") -> 0 | X14: =IF(K14,M14/H14,"") -> 0 | Y14: =IF(AND(OR(J14="OK",J14="OPEN"),ISNUMBER(Journal!$G14)),G14*(Journal!$G14-Journal!$E14)/H14,"") -> 0 | Z14: =IF(AA14="","",IF(AND(ISNUMBER(Settings!$D$5),ISNUMBER(Settings!$E$5),IF(Settings!$D$5<=Settings!$E$5,AND(AA14>=Settings!$D$5,AA14<Settings!$E$5),OR(AA14>=Settings!$D$5,AA14<Settings!$E$5))),Settings!$A$5,IF(AND(ISNUMBER(Settings!$D$6),ISNUMBER(Settings!$E$6),IF(Settings!$D$6<=Settings!$E$6,AND(AA14>=Settings!$D$6,AA14<Settings!$E$6),OR(AA14>=Settings!$D$6,AA14<Settings!$E$6))),Settings!$A$6,IF(AND(ISNUMBER(Settings!$D$7),ISNUMBER(Settings!$E$7),IF(Settings!$D$7<=Settings!$E$7,AND(AA14>=Settings!$D$7,AA14<Settings!$E$7),OR(AA14>=Settings!$D$7,AA14<Settings!$E$7))),Settings!$A$7,IF(AND(ISNUMBER(Settings!$D$8),ISNUMBER(Settings!$E$8),IF(Settings!$D$8<=Settings!$E$8,AND(AA14>=Settings!$D$8,AA14<Settings!$E$8),OR(AA14>=Settings!$D$8,AA14<Settings!$E$8))),Settings!$A$8,IF(AND(ISNUMBER(Settings!$D$9),ISNUMBER(Settings!$E$9),IF(Settings!$D$9<=Settings!$E$9,AND(AA14>=Settings!$D$9,AA14<Settings!$E$9),OR(AA14>=Settings!$D$9,AA14<Settings!$E$9))),Settings!$A$9,IF(AND(ISNUMBER(Settings!$D$10),ISNUMBER(Settings!$E$10),IF(Settings!$D$10<=Settings!$E$10,AND(AA14>=Settings!$D$10,AA14<Settings!$E$10),OR(AA14>=Settings!$D$10,AA14<Settings!$E$10))),Settings!$A$10,""))))))) -> 0 | AA14: =IF(AND(A14,ISNUMBER(Journal!$B14)),MOD(ROUND(MOD(Journal!$B14,1)*1440,0)-ROUND(Journal!$D$8*60,0),1440),"") -> 0 | AB14: =IF(G14=1,"LONG",IF(G14=-1,"SHORT","")) -> 0 | AC14: =AC13+IF(K14,1,0) -> 0 | AD14: =IF(K14,AC14,"") -> 0 | AE14: =J14="OPEN" -> 0 | AF14: =AND(J14<>"",J14<>"OK",J14<>"OPEN") -> 0 | AH14: 3 | AI14: =IF(AH14>$AZ$11,"",IF(AH14=0,Journal!$D$3,INDEX($Q$11:$Q$1010,MATCH(AH14,$AD$11:$AD$1010,0)))) -> 0 | AJ14: 4 | AK14: =IF(AJ14>$AZ$11,"",INDEX($P$11:$P$1010,MATCH(AJ14,$AD$11:$AD$1010,0))) -> 0 | AM14: =IF(Markets!$A$8="","",Markets!$A$8) -> 0 | AN14: =IF(AM14="",0,COUNTIFS(Journal!$C$11:$C$1010,AM14,$K$11:$K$1010,TRUE)) -> 0 | AO14: =IF(AN14=0,0,SUMIF(Journal!$C$11:$C$1010,AM14,$V$11:$V$1010)) -> 0 | AP14: =IF(AN14>0,COUNTIF($AN$11:AN14,">0"),"") -> 0 | AQ14: 4 | AR14: =IF(AQ14>$AZ$36,"",INDEX($AM$11:$AM$160,MATCH(AQ14,$AP$11:$AP$160,0))) -> 0 | AS14: =IF(AQ14>$AZ$36,"",INDEX($AO$11:$AO$160,MATCH(AQ14,$AP$11:$AP$160,0))) -> 0 | AU14: =IF(AND(Settings!$A$8<>"",ISNUMBER(Settings!$D$8),ISNUMBER(Settings!$E$8)),Settings!$A$8,"") -> 0 | AV14: =IF(AU14="",0,COUNTIFS($Z$11:$Z$1010,AU14,$K$11:$K$1010,TRUE)) -> 0 | AW14: =IF(AU14="",0,SUMIF($Z$11:$Z$1010,AU14,$V$11:$V$1010)) -> 0 | AY14: be | AZ14: =COUNTIF($U$11:$U$1010,"B") -> 0 | BB14: Wins | BC14: =$AZ$12 -> 0
A15: =COUNTA(Journal!A15:M15)>0 -> 0 | B15: =IF(Journal!$C15="",0,IFERROR(MATCH(Journal!$C15,Markets!$A$5:$A$154,0),0)) -> 0 | C15: =IF(B15>0,INDEX(Markets!$C$5:$C$154,B15),"") -> 0 | D15: =IF(B15>0,INDEX(Markets!$F$5:$F$154,B15),"") -> 0 | E15: =IF(B15>0,IF(INDEX(Markets!$G$5:$G$154,B15)="",Journal!$D$4,INDEX(Markets!$G$5:$G$154,B15)),"") -> 0 | F15: =IF(B15>0,N(INDEX(Markets!$H$5:$H$154,B15)),0) -> 0 | G15: =IF(Journal!$D15="LONG",1,IF(Journal!$D15="SHORT",-1,0)) -> 0 | H15: =IF(AND(ISNUMBER(Journal!$E15),ISNUMBER(Journal!$F15)),ABS(Journal!$E15-Journal!$F15),"") -> 0 | I15: =IF(NOT(A15),"",IF(Journal!$C15="","INSTRUMENT MISSING",IF(B15=0,"UNKNOWN INSTRUMENT",IF(OR(NOT(ISNUMBER(C15)),NOT(ISNUMBER(D15))),"INSTRUMENT SPECS MISSING",IF(OR(C15<=0,D15<=0),"INSTRUMENT SPECS MISSING",IF(NOT(ISNUMBER(Journal!$E15)),"ENTRY MISSING",IF(NOT(ISNUMBER(Journal!$F15)),"SL MISSING",IF(Journal!$F15=Journal!$E15,"SL = ENTRY",IF(G15=0,"DIRECTION MISSING",IF(G15*(Journal!$E15-Journal!$F15)<=0,"SL WRONG SIDE",IF(NOT(AND(ISNUMBER(Journal!$L15),Journal!$L15>0)),IF(TRUE,"LOTS MISSING","RISK MISSING"),""))))))))))) -> 0 | J15: =IF(NOT(A15),"",IF(I15<>"",I15,IF(AND(ISNUMBER(Journal!$G15),G15*(Journal!$G15-Journal!$E15)<=0),"TP1 WRONG SIDE",IF(AND(ISNUMBER(Journal!$H15),G15*(Journal!$H15-Journal!$E15)<=0),"TP2 WRONG SIDE",IF(AND(ISNUMBER(Journal!$I15),G15*(Journal!$I15-Journal!$E15)<=0),"TP3 WRONG SIDE",IF(Journal!$K15="","OPEN",IF(AND(Journal!$M15<>"",OR(NOT(ISNUMBER(Journal!$M15)),Journal!$M15<=0,Journal!$M15>=1)),"TP1 % INVALID",IF(Journal!$K15="SL","OK",IF(Journal!$K15="TP",IF(ISNUMBER(Journal!$G15),"OK","TP1 MISSING"),IF(Journal!$K15="Manual exit",IF(ISNUMBER(Journal!$J15),"OK","MANUAL MISSING"),IF(Journal!$K15="TP1 + Breakeven",IF(ISNUMBER(Journal!$G15),"OK","TP1 MISSING"),IF(Journal!$K15="TP1 + Manual",IF(ISNUMBER(Journal!$G15),IF(ISNUMBER(Journal!$J15),"OK","MANUAL MISSING"),IF(ISNUMBER(Journal!$J15),"TP1 MISSING","TP1 & MANUAL MISSING")),IF(Journal!$K15="Multiple TP",IF(ISNUMBER(Journal!$G15),IF(ISNUMBER(Journal!$H15),"OK","TP2 MISSING"),IF(ISNUMBER(Journal!$H15),"TP1 MISSING","TP1 & TP2 MISSING")),"UNKNOWN OUTCOME"))))))))))))) -> 0 | K15: =J15="OK" -> 0 | L15: =IF(ISNUMBER(Journal!$M15),Journal!$M15,0.5) -> 0 | M15: =IF(NOT(K15),"",G15*IF(Journal!$K15="SL",Journal!$F15-Journal!$E15,IF(Journal!$K15="TP",Journal!$G15-Journal!$E15,IF(Journal!$K15="Manual exit",Journal!$J15-Journal!$E15,IF(Journal!$K15="TP1 + Breakeven",L15*(Journal!$G15-Journal!$E15),IF(Journal!$K15="TP1 + Manual",L15*(Journal!$G15-Journal!$E15)+(1-L15)*(Journal!$J15-Journal!$E15),(Journal!$G15+Journal!$H15+IF(ISNUMBER(Journal!$I15),Journal!$I15,0))/IF(ISNUMBER(Journal!$I15),3,2)-Journal!$E15)))))) -> 0 | N15: =IF(K15,Journal!$E15+G15*M15,"") -> 0 | O15: =Q14 -> 0 | P15: =IF(OR(NOT(A15),I15<>""),"",Journal!$L15) -> 0 | Q15: =O15+IF(K15,V15,0) -> 0 | R15: =IF(P15="","",H15*P15*C15*D15) -> 0 | S15: =IF(K15,M15*P15*C15*D15,"") -> 0 | T15: =IF(K15,-IF(F15>0,F15*Journal!$E15*P15*C15*D15,P15*E15),"") -> 0 | U15: =IF(K15,IF(S15>0,"W",IF(S15<0,"L","B")),"") -> 0 | V15: =IF(K15,S15+T15,"") -> 0 | W15: =IF(K15,V15/O15,"") -> 0 | X15: =IF(K15,M15/H15,"") -> 0 | Y15: =IF(AND(OR(J15="OK",J15="OPEN"),ISNUMBER(Journal!$G15)),G15*(Journal!$G15-Journal!$E15)/H15,"") -> 0 | Z15: =IF(AA15="","",IF(AND(ISNUMBER(Settings!$D$5),ISNUMBER(Settings!$E$5),IF(Settings!$D$5<=Settings!$E$5,AND(AA15>=Settings!$D$5,AA15<Settings!$E$5),OR(AA15>=Settings!$D$5,AA15<Settings!$E$5))),Settings!$A$5,IF(AND(ISNUMBER(Settings!$D$6),ISNUMBER(Settings!$E$6),IF(Settings!$D$6<=Settings!$E$6,AND(AA15>=Settings!$D$6,AA15<Settings!$E$6),OR(AA15>=Settings!$D$6,AA15<Settings!$E$6))),Settings!$A$6,IF(AND(ISNUMBER(Settings!$D$7),ISNUMBER(Settings!$E$7),IF(Settings!$D$7<=Settings!$E$7,AND(AA15>=Settings!$D$7,AA15<Settings!$E$7),OR(AA15>=Settings!$D$7,AA15<Settings!$E$7))),Settings!$A$7,IF(AND(ISNUMBER(Settings!$D$8),ISNUMBER(Settings!$E$8),IF(Settings!$D$8<=Settings!$E$8,AND(AA15>=Settings!$D$8,AA15<Settings!$E$8),OR(AA15>=Settings!$D$8,AA15<Settings!$E$8))),Settings!$A$8,IF(AND(ISNUMBER(Settings!$D$9),ISNUMBER(Settings!$E$9),IF(Settings!$D$9<=Settings!$E$9,AND(AA15>=Settings!$D$9,AA15<Settings!$E$9),OR(AA15>=Settings!$D$9,AA15<Settings!$E$9))),Settings!$A$9,IF(AND(ISNUMBER(Settings!$D$10),ISNUMBER(Settings!$E$10),IF(Settings!$D$10<=Settings!$E$10,AND(AA15>=Settings!$D$10,AA15<Settings!$E$10),OR(AA15>=Settings!$D$10,AA15<Settings!$E$10))),Settings!$A$10,""))))))) -> 0 | AA15: =IF(AND(A15,ISNUMBER(Journal!$B15)),MOD(ROUND(MOD(Journal!$B15,1)*1440,0)-ROUND(Journal!$D$8*60,0),1440),"") -> 0 | AB15: =IF(G15=1,"LONG",IF(G15=-1,"SHORT","")) -> 0 | AC15: =AC14+IF(K15,1,0) -> 0 | AD15: =IF(K15,AC15,"") -> 0 | AE15: =J15="OPEN" -> 0 | AF15: =AND(J15<>"",J15<>"OK",J15<>"OPEN") -> 0 | AH15: 4 | AI15: =IF(AH15>$AZ$11,"",IF(AH15=0,Journal!$D$3,INDEX($Q$11:$Q$1010,MATCH(AH15,$AD$11:$AD$1010,0)))) -> 0 | AJ15: 5 | AK15: =IF(AJ15>$AZ$11,"",INDEX($P$11:$P$1010,MATCH(AJ15,$AD$11:$AD$1010,0))) -> 0 | AM15: =IF(Markets!$A$9="","",Markets!$A$9) -> 0 | AN15: =IF(AM15="",0,COUNTIFS(Journal!$C$11:$C$1010,AM15,$K$11:$K$1010,TRUE)) -> 0 | AO15: =IF(AN15=0,0,SUMIF(Journal!$C$11:$C$1010,AM15,$V$11:$V$1010)) -> 0 | AP15: =IF(AN15>0,COUNTIF($AN$11:AN15,">0"),"") -> 0 | AQ15: 5 | AR15: =IF(AQ15>$AZ$36,"",INDEX($AM$11:$AM$160,MATCH(AQ15,$AP$11:$AP$160,0))) -> 0 | AS15: =IF(AQ15>$AZ$36,"",INDEX($AO$11:$AO$160,MATCH(AQ15,$AP$11:$AP$160,0))) -> 0 | AU15: =IF(AND(Settings!$A$9<>"",ISNUMBER(Settings!$D$9),ISNUMBER(Settings!$E$9)),Settings!$A$9,"") -> 0 | AV15: =IF(AU15="",0,COUNTIFS($Z$11:$Z$1010,AU15,$K$11:$K$1010,TRUE)) -> 0 | AW15: =IF(AU15="",0,SUMIF($Z$11:$Z$1010,AU15,$V$11:$V$1010)) -> 0 | AY15: winrate | AZ15: =IF($AZ$11=0,"",$AZ$12/$AZ$11) -> 0 | BB15: Losses | BC15: =$AZ$13 -> 0
A16: =COUNTA(Journal!A16:M16)>0 -> 0 | B16: =IF(Journal!$C16="",0,IFERROR(MATCH(Journal!$C16,Markets!$A$5:$A$154,0),0)) -> 0 | C16: =IF(B16>0,INDEX(Markets!$C$5:$C$154,B16),"") -> 0 | D16: =IF(B16>0,INDEX(Markets!$F$5:$F$154,B16),"") -> 0 | E16: =IF(B16>0,IF(INDEX(Markets!$G$5:$G$154,B16)="",Journal!$D$4,INDEX(Markets!$G$5:$G$154,B16)),"") -> 0 | F16: =IF(B16>0,N(INDEX(Markets!$H$5:$H$154,B16)),0) -> 0 | G16: =IF(Journal!$D16="LONG",1,IF(Journal!$D16="SHORT",-1,0)) -> 0 | H16: =IF(AND(ISNUMBER(Journal!$E16),ISNUMBER(Journal!$F16)),ABS(Journal!$E16-Journal!$F16),"") -> 0 | I16: =IF(NOT(A16),"",IF(Journal!$C16="","INSTRUMENT MISSING",IF(B16=0,"UNKNOWN INSTRUMENT",IF(OR(NOT(ISNUMBER(C16)),NOT(ISNUMBER(D16))),"INSTRUMENT SPECS MISSING",IF(OR(C16<=0,D16<=0),"INSTRUMENT SPECS MISSING",IF(NOT(ISNUMBER(Journal!$E16)),"ENTRY MISSING",IF(NOT(ISNUMBER(Journal!$F16)),"SL MISSING",IF(Journal!$F16=Journal!$E16,"SL = ENTRY",IF(G16=0,"DIRECTION MISSING",IF(G16*(Journal!$E16-Journal!$F16)<=0,"SL WRONG SIDE",IF(NOT(AND(ISNUMBER(Journal!$L16),Journal!$L16>0)),IF(TRUE,"LOTS MISSING","RISK MISSING"),""))))))))))) -> 0 | J16: =IF(NOT(A16),"",IF(I16<>"",I16,IF(AND(ISNUMBER(Journal!$G16),G16*(Journal!$G16-Journal!$E16)<=0),"TP1 WRONG SIDE",IF(AND(ISNUMBER(Journal!$H16),G16*(Journal!$H16-Journal!$E16)<=0),"TP2 WRONG SIDE",IF(AND(ISNUMBER(Journal!$I16),G16*(Journal!$I16-Journal!$E16)<=0),"TP3 WRONG SIDE",IF(Journal!$K16="","OPEN",IF(AND(Journal!$M16<>"",OR(NOT(ISNUMBER(Journal!$M16)),Journal!$M16<=0,Journal!$M16>=1)),"TP1 % INVALID",IF(Journal!$K16="SL","OK",IF(Journal!$K16="TP",IF(ISNUMBER(Journal!$G16),"OK","TP1 MISSING"),IF(Journal!$K16="Manual exit",IF(ISNUMBER(Journal!$J16),"OK","MANUAL MISSING"),IF(Journal!$K16="TP1 + Breakeven",IF(ISNUMBER(Journal!$G16),"OK","TP1 MISSING"),IF(Journal!$K16="TP1 + Manual",IF(ISNUMBER(Journal!$G16),IF(ISNUMBER(Journal!$J16),"OK","MANUAL MISSING"),IF(ISNUMBER(Journal!$J16),"TP1 MISSING","TP1 & MANUAL MISSING")),IF(Journal!$K16="Multiple TP",IF(ISNUMBER(Journal!$G16),IF(ISNUMBER(Journal!$H16),"OK","TP2 MISSING"),IF(ISNUMBER(Journal!$H16),"TP1 MISSING","TP1 & TP2 MISSING")),"UNKNOWN OUTCOME"))))))))))))) -> 0 | K16: =J16="OK" -> 0 | L16: =IF(ISNUMBER(Journal!$M16),Journal!$M16,0.5) -> 0 | M16: =IF(NOT(K16),"",G16*IF(Journal!$K16="SL",Journal!$F16-Journal!$E16,IF(Journal!$K16="TP",Journal!$G16-Journal!$E16,IF(Journal!$K16="Manual exit",Journal!$J16-Journal!$E16,IF(Journal!$K16="TP1 + Breakeven",L16*(Journal!$G16-Journal!$E16),IF(Journal!$K16="TP1 + Manual",L16*(Journal!$G16-Journal!$E16)+(1-L16)*(Journal!$J16-Journal!$E16),(Journal!$G16+Journal!$H16+IF(ISNUMBER(Journal!$I16),Journal!$I16,0))/IF(ISNUMBER(Journal!$I16),3,2)-Journal!$E16)))))) -> 0 | N16: =IF(K16,Journal!$E16+G16*M16,"") -> 0 | O16: =Q15 -> 0 | P16: =IF(OR(NOT(A16),I16<>""),"",Journal!$L16) -> 0 | Q16: =O16+IF(K16,V16,0) -> 0 | R16: =IF(P16="","",H16*P16*C16*D16) -> 0 | S16: =IF(K16,M16*P16*C16*D16,"") -> 0 | T16: =IF(K16,-IF(F16>0,F16*Journal!$E16*P16*C16*D16,P16*E16),"") -> 0 | U16: =IF(K16,IF(S16>0,"W",IF(S16<0,"L","B")),"") -> 0 | V16: =IF(K16,S16+T16,"") -> 0 | W16: =IF(K16,V16/O16,"") -> 0 | X16: =IF(K16,M16/H16,"") -> 0 | Y16: =IF(AND(OR(J16="OK",J16="OPEN"),ISNUMBER(Journal!$G16)),G16*(Journal!$G16-Journal!$E16)/H16,"") -> 0 | Z16: =IF(AA16="","",IF(AND(ISNUMBER(Settings!$D$5),ISNUMBER(Settings!$E$5),IF(Settings!$D$5<=Settings!$E$5,AND(AA16>=Settings!$D$5,AA16<Settings!$E$5),OR(AA16>=Settings!$D$5,AA16<Settings!$E$5))),Settings!$A$5,IF(AND(ISNUMBER(Settings!$D$6),ISNUMBER(Settings!$E$6),IF(Settings!$D$6<=Settings!$E$6,AND(AA16>=Settings!$D$6,AA16<Settings!$E$6),OR(AA16>=Settings!$D$6,AA16<Settings!$E$6))),Settings!$A$6,IF(AND(ISNUMBER(Settings!$D$7),ISNUMBER(Settings!$E$7),IF(Settings!$D$7<=Settings!$E$7,AND(AA16>=Settings!$D$7,AA16<Settings!$E$7),OR(AA16>=Settings!$D$7,AA16<Settings!$E$7))),Settings!$A$7,IF(AND(ISNUMBER(Settings!$D$8),ISNUMBER(Settings!$E$8),IF(Settings!$D$8<=Settings!$E$8,AND(AA16>=Settings!$D$8,AA16<Settings!$E$8),OR(AA16>=Settings!$D$8,AA16<Settings!$E$8))),Settings!$A$8,IF(AND(ISNUMBER(Settings!$D$9),ISNUMBER(Settings!$E$9),IF(Settings!$D$9<=Settings!$E$9,AND(AA16>=Settings!$D$9,AA16<Settings!$E$9),OR(AA16>=Settings!$D$9,AA16<Settings!$E$9))),Settings!$A$9,IF(AND(ISNUMBER(Settings!$D$10),ISNUMBER(Settings!$E$10),IF(Settings!$D$10<=Settings!$E$10,AND(AA16>=Settings!$D$10,AA16<Settings!$E$10),OR(AA16>=Settings!$D$10,AA16<Settings!$E$10))),Settings!$A$10,""))))))) -> 0 | AA16: =IF(AND(A16,ISNUMBER(Journal!$B16)),MOD(ROUND(MOD(Journal!$B16,1)*1440,0)-ROUND(Journal!$D$8*60,0),1440),"") -> 0 | AB16: =IF(G16=1,"LONG",IF(G16=-1,"SHORT","")) -> 0 | AC16: =AC15+IF(K16,1,0) -> 0 | AD16: =IF(K16,AC16,"") -> 0 | AE16: =J16="OPEN" -> 0 | AF16: =AND(J16<>"",J16<>"OK",J16<>"OPEN") -> 0 | AH16: 5 | AI16: =IF(AH16>$AZ$11,"",IF(AH16=0,Journal!$D$3,INDEX($Q$11:$Q$1010,MATCH(AH16,$AD$11:$AD$1010,0)))) -> 0 | AJ16: 6 | AK16: =IF(AJ16>$AZ$11,"",INDEX($P$11:$P$1010,MATCH(AJ16,$AD$11:$AD$1010,0))) -> 0 | AM16: =IF(Markets!$A$10="","",Markets!$A$10) -> 0 | AN16: =IF(AM16="",0,COUNTIFS(Journal!$C$11:$C$1010,AM16,$K$11:$K$1010,TRUE)) -> 0 | AO16: =IF(AN16=0,0,SUMIF(Journal!$C$11:$C$1010,AM16,$V$11:$V$1010)) -> 0 | AP16: =IF(AN16>0,COUNTIF($AN$11:AN16,">0"),"") -> 0 | AQ16: 6 | AR16: =IF(AQ16>$AZ$36,"",INDEX($AM$11:$AM$160,MATCH(AQ16,$AP$11:$AP$160,0))) -> 0 | AS16: =IF(AQ16>$AZ$36,"",INDEX($AO$11:$AO$160,MATCH(AQ16,$AP$11:$AP$160,0))) -> 0 | AU16: =IF(AND(Settings!$A$10<>"",ISNUMBER(Settings!$D$10),ISNUMBER(Settings!$E$10)),Settings!$A$10,"") -> 0 | AV16: =IF(AU16="",0,COUNTIFS($Z$11:$Z$1010,AU16,$K$11:$K$1010,TRUE)) -> 0 | AW16: =IF(AU16="",0,SUMIF($Z$11:$Z$1010,AU16,$V$11:$V$1010)) -> 0 | AY16: gp | AZ16: =SUMIF($U$11:$U$1010,"W",$S$11:$S$1010) -> 0 | BB16: Break-even | BC16: =$AZ$14 -> 0
A17: =COUNTA(Journal!A17:M17)>0 -> 0 | B17: =IF(Journal!$C17="",0,IFERROR(MATCH(Journal!$C17,Markets!$A$5:$A$154,0),0)) -> 0 | C17: =IF(B17>0,INDEX(Markets!$C$5:$C$154,B17),"") -> 0 | D17: =IF(B17>0,INDEX(Markets!$F$5:$F$154,B17),"") -> 0 | E17: =IF(B17>0,IF(INDEX(Markets!$G$5:$G$154,B17)="",Journal!$D$4,INDEX(Markets!$G$5:$G$154,B17)),"") -> 0 | F17: =IF(B17>0,N(INDEX(Markets!$H$5:$H$154,B17)),0) -> 0 | G17: =IF(Journal!$D17="LONG",1,IF(Journal!$D17="SHORT",-1,0)) -> 0 | H17: =IF(AND(ISNUMBER(Journal!$E17),ISNUMBER(Journal!$F17)),ABS(Journal!$E17-Journal!$F17),"") -> 0 | I17: =IF(NOT(A17),"",IF(Journal!$C17="","INSTRUMENT MISSING",IF(B17=0,"UNKNOWN INSTRUMENT",IF(OR(NOT(ISNUMBER(C17)),NOT(ISNUMBER(D17))),"INSTRUMENT SPECS MISSING",IF(OR(C17<=0,D17<=0),"INSTRUMENT SPECS MISSING",IF(NOT(ISNUMBER(Journal!$E17)),"ENTRY MISSING",IF(NOT(ISNUMBER(Journal!$F17)),"SL MISSING",IF(Journal!$F17=Journal!$E17,"SL = ENTRY",IF(G17=0,"DIRECTION MISSING",IF(G17*(Journal!$E17-Journal!$F17)<=0,"SL WRONG SIDE",IF(NOT(AND(ISNUMBER(Journal!$L17),Journal!$L17>0)),IF(TRUE,"LOTS MISSING","RISK MISSING"),""))))))))))) -> 0 | J17: =IF(NOT(A17),"",IF(I17<>"",I17,IF(AND(ISNUMBER(Journal!$G17),G17*(Journal!$G17-Journal!$E17)<=0),"TP1 WRONG SIDE",IF(AND(ISNUMBER(Journal!$H17),G17*(Journal!$H17-Journal!$E17)<=0),"TP2 WRONG SIDE",IF(AND(ISNUMBER(Journal!$I17),G17*(Journal!$I17-Journal!$E17)<=0),"TP3 WRONG SIDE",IF(Journal!$K17="","OPEN",IF(AND(Journal!$M17<>"",OR(NOT(ISNUMBER(Journal!$M17)),Journal!$M17<=0,Journal!$M17>=1)),"TP1 % INVALID",IF(Journal!$K17="SL","OK",IF(Journal!$K17="TP",IF(ISNUMBER(Journal!$G17),"OK","TP1 MISSING"),IF(Journal!$K17="Manual exit",IF(ISNUMBER(Journal!$J17),"OK","MANUAL MISSING"),IF(Journal!$K17="TP1 + Breakeven",IF(ISNUMBER(Journal!$G17),"OK","TP1 MISSING"),IF(Journal!$K17="TP1 + Manual",IF(ISNUMBER(Journal!$G17),IF(ISNUMBER(Journal!$J17),"OK","MANUAL MISSING"),IF(ISNUMBER(Journal!$J17),"TP1 MISSING","TP1 & MANUAL MISSING")),IF(Journal!$K17="Multiple TP",IF(ISNUMBER(Journal!$G17),IF(ISNUMBER(Journal!$H17),"OK","TP2 MISSING"),IF(ISNUMBER(Journal!$H17),"TP1 MISSING","TP1 & TP2 MISSING")),"UNKNOWN OUTCOME"))))))))))))) -> 0 | K17: =J17="OK" -> 0 | L17: =IF(ISNUMBER(Journal!$M17),Journal!$M17,0.5) -> 0 | M17: =IF(NOT(K17),"",G17*IF(Journal!$K17="SL",Journal!$F17-Journal!$E17,IF(Journal!$K17="TP",Journal!$G17-Journal!$E17,IF(Journal!$K17="Manual exit",Journal!$J17-Journal!$E17,IF(Journal!$K17="TP1 + Breakeven",L17*(Journal!$G17-Journal!$E17),IF(Journal!$K17="TP1 + Manual",L17*(Journal!$G17-Journal!$E17)+(1-L17)*(Journal!$J17-Journal!$E17),(Journal!$G17+Journal!$H17+IF(ISNUMBER(Journal!$I17),Journal!$I17,0))/IF(ISNUMBER(Journal!$I17),3,2)-Journal!$E17)))))) -> 0 | N17: =IF(K17,Journal!$E17+G17*M17,"") -> 0 | O17: =Q16 -> 0 | P17: =IF(OR(NOT(A17),I17<>""),"",Journal!$L17) -> 0 | Q17: =O17+IF(K17,V17,0) -> 0 | R17: =IF(P17="","",H17*P17*C17*D17) -> 0 | S17: =IF(K17,M17*P17*C17*D17,"") -> 0 | T17: =IF(K17,-IF(F17>0,F17*Journal!$E17*P17*C17*D17,P17*E17),"") -> 0 | U17: =IF(K17,IF(S17>0,"W",IF(S17<0,"L","B")),"") -> 0 | V17: =IF(K17,S17+T17,"") -> 0 | W17: =IF(K17,V17/O17,"") -> 0 | X17: =IF(K17,M17/H17,"") -> 0 | Y17: =IF(AND(OR(J17="OK",J17="OPEN"),ISNUMBER(Journal!$G17)),G17*(Journal!$G17-Journal!$E17)/H17,"") -> 0 | Z17: =IF(AA17="","",IF(AND(ISNUMBER(Settings!$D$5),ISNUMBER(Settings!$E$5),IF(Settings!$D$5<=Settings!$E$5,AND(AA17>=Settings!$D$5,AA17<Settings!$E$5),OR(AA17>=Settings!$D$5,AA17<Settings!$E$5))),Settings!$A$5,IF(AND(ISNUMBER(Settings!$D$6),ISNUMBER(Settings!$E$6),IF(Settings!$D$6<=Settings!$E$6,AND(AA17>=Settings!$D$6,AA17<Settings!$E$6),OR(AA17>=Settings!$D$6,AA17<Settings!$E$6))),Settings!$A$6,IF(AND(ISNUMBER(Settings!$D$7),ISNUMBER(Settings!$E$7),IF(Settings!$D$7<=Settings!$E$7,AND(AA17>=Settings!$D$7,AA17<Settings!$E$7),OR(AA17>=Settings!$D$7,AA17<Settings!$E$7))),Settings!$A$7,IF(AND(ISNUMBER(Settings!$D$8),ISNUMBER(Settings!$E$8),IF(Settings!$D$8<=Settings!$E$8,AND(AA17>=Settings!$D$8,AA17<Settings!$E$8),OR(AA17>=Settings!$D$8,AA17<Settings!$E$8))),Settings!$A$8,IF(AND(ISNUMBER(Settings!$D$9),ISNUMBER(Settings!$E$9),IF(Settings!$D$9<=Settings!$E$9,AND(AA17>=Settings!$D$9,AA17<Settings!$E$9),OR(AA17>=Settings!$D$9,AA17<Settings!$E$9))),Settings!$A$9,IF(AND(ISNUMBER(Settings!$D$10),ISNUMBER(Settings!$E$10),IF(Settings!$D$10<=Settings!$E$10,AND(AA17>=Settings!$D$10,AA17<Settings!$E$10),OR(AA17>=Settings!$D$10,AA17<Settings!$E$10))),Settings!$A$10,""))))))) -> 0 | AA17: =IF(AND(A17,ISNUMBER(Journal!$B17)),MOD(ROUND(MOD(Journal!$B17,1)*1440,0)-ROUND(Journal!$D$8*60,0),1440),"") -> 0 | AB17: =IF(G17=1,"LONG",IF(G17=-1,"SHORT","")) -> 0 | AC17: =AC16+IF(K17,1,0) -> 0 | AD17: =IF(K17,AC17,"") -> 0 | AE17: =J17="OPEN" -> 0 | AF17: =AND(J17<>"",J17<>"OK",J17<>"OPEN") -> 0 | AH17: 6 | AI17: =IF(AH17>$AZ$11,"",IF(AH17=0,Journal!$D$3,INDEX($Q$11:$Q$1010,MATCH(AH17,$AD$11:$AD$1010,0)))) -> 0 | AJ17: 7 | AK17: =IF(AJ17>$AZ$11,"",INDEX($P$11:$P$1010,MATCH(AJ17,$AD$11:$AD$1010,0))) -> 0 | AM17: =IF(Markets!$A$11="","",Markets!$A$11) -> 0 | AN17: =IF(AM17="",0,COUNTIFS(Journal!$C$11:$C$1010,AM17,$K$11:$K$1010,TRUE)) -> 0 | AO17: =IF(AN17=0,0,SUMIF(Journal!$C$11:$C$1010,AM17,$V$11:$V$1010)) -> 0 | AP17: =IF(AN17>0,COUNTIF($AN$11:AN17,">0"),"") -> 0 | AQ17: 7 | AR17: =IF(AQ17>$AZ$36,"",INDEX($AM$11:$AM$160,MATCH(AQ17,$AP$11:$AP$160,0))) -> 0 | AS17: =IF(AQ17>$AZ$36,"",INDEX($AO$11:$AO$160,MATCH(AQ17,$AP$11:$AP$160,0))) -> 0 | AY17: gl | AZ17: =-SUMIF($U$11:$U$1010,"L",$S$11:$S$1010) -> 0
